BEGIN:VCALENDAR
VERSION:2.0
PRODID:-// - ECPv5.11.0//NONSGML v1.0//EN
CALSCALE:GREGORIAN
METHOD:PUBLISH
X-ORIGINAL-URL:https://www.ef-heimerzheim.de
X-WR-CALDESC:Veranstaltungen für 
BEGIN:VTIMEZONE
TZID:Europe/Paris
BEGIN:DAYLIGHT
TZOFFSETFROM:+0100
TZOFFSETTO:+0200
TZNAME:CEST
DTSTART:20230326T010000
END:DAYLIGHT
BEGIN:STANDARD
TZOFFSETFROM:+0200
TZOFFSETTO:+0100
TZNAME:CET
DTSTART:20231029T010000
END:STANDARD
END:VTIMEZONE
BEGIN:VEVENT
DTSTART;TZID=Europe/Paris:20230331T200000
DTEND;TZID=Europe/Paris:20230331T220000
DTSTAMP:20260421T093848
CREATED:20230125T192335Z
LAST-MODIFIED:20230125T192335Z
UID:4470-1680292800-1680300000@www.ef-heimerzheim.de
SUMMARY:JUST U
DESCRIPTION:Jugendtreff ab 16 Jahren\nmehr Infos unter:\nhttps://www.ef-heimerzheim.de/services/angebot-fuer-jugend/
URL:https://www.ef-heimerzheim.de/event/just-u-45/
LOCATION:EFH\, Höhenring 191\, Swisttal\, 53913\, Deutschland
CATEGORIES:Alle Veranstaltungen,Jugendgruppe
END:VEVENT
END:VCALENDAR