BEGIN:VCALENDAR
VERSION:2.0
PRODID:-// - ECPv5.11.0//NONSGML v1.0//EN
CALSCALE:GREGORIAN
METHOD:PUBLISH
X-ORIGINAL-URL:https://www.ef-heimerzheim.de
X-WR-CALDESC:Veranstaltungen für 
BEGIN:VTIMEZONE
TZID:Europe/Paris
BEGIN:DAYLIGHT
TZOFFSETFROM:+0100
TZOFFSETTO:+0200
TZNAME:CEST
DTSTART:20220327T010000
END:DAYLIGHT
BEGIN:STANDARD
TZOFFSETFROM:+0200
TZOFFSETTO:+0100
TZNAME:CET
DTSTART:20221030T010000
END:STANDARD
END:VTIMEZONE
BEGIN:VEVENT
DTSTART;TZID=Europe/Paris:20221014T180000
DTEND;TZID=Europe/Paris:20221014T193000
DTSTAMP:20260421T123715
CREATED:20221004T180236Z
LAST-MODIFIED:20221004T180236Z
UID:4229-1665770400-1665775800@www.ef-heimerzheim.de
SUMMARY:Bibelstudium / Gebet
DESCRIPTION:
URL:https://www.ef-heimerzheim.de/event/bibelstudium-gebet-18/
LOCATION:EFH\, Höhenring 191\, Swisttal\, 53913\, Deutschland
CATEGORIES:Alle Veranstaltungen,Gottesdienst
END:VEVENT
END:VCALENDAR